Package: blase Version: 1.0.0 Command: /Library/Frameworks/R.framework/Resources/bin/R CMD INSTALL blase StartedAt: 2025-11-06 15:29:54 -0500 (Thu, 06 Nov 2025) EndedAt: 2025-11-06 15:30:13 -0500 (Thu, 06 Nov 2025) EllapsedTime: 19.5 seconds RetCode: 0 Status: OK