Package: blase Version: 1.0.0 Command: /Library/Frameworks/R.framework/Resources/bin/R CMD build --keep-empty-dirs --no-resave-data blase StartedAt: 2025-11-06 15:47:39 -0500 (Thu, 06 Nov 2025) EndedAt: 2025-11-06 15:55:19 -0500 (Thu, 06 Nov 2025) EllapsedTime: 460.2 seconds RetCode: 0 Status: OK PackageFile: blase_1.0.0.tar.gz PackageFileSize: 8.626 MiB