Package: blase Version: 1.0.0 Command: /Library/Frameworks/R.framework/Resources/bin/R CMD INSTALL blase StartedAt: 2025-11-20 19:04:30 -0500 (Thu, 20 Nov 2025) EndedAt: 2025-11-20 19:05:19 -0500 (Thu, 20 Nov 2025) EllapsedTime: 48.6 seconds RetCode: 0 Status: OK