Package: blacksheepr Version: 1.22.0 Command: /home/biocbuild/R/R/bin/R CMD INSTALL blacksheepr StartedAt: 2025-04-21 20:46:24 -0000 (Mon, 21 Apr 2025) EndedAt: 2025-04-21 20:47:00 -0000 (Mon, 21 Apr 2025) EllapsedTime: 35.5 seconds RetCode: 0 Status: OK