Package: blacksheepr Version: 1.22.0 Command: rm -rf blacksheepr.buildbin-libdir && mkdir blacksheepr.buildbin-libdir && /Users/biocbuild/BBS/utils/build-universal.sh blacksheepr_1.22.0.tar.gz /Library/Frameworks/R.framework/Resources/bin/R blacksheepr.buildbin-libdir StartedAt: 2025-04-21 22:28:02 -0400 (Mon, 21 Apr 2025) EndedAt: 2025-04-21 22:28:13 -0400 (Mon, 21 Apr 2025) EllapsedTime: 11.3 seconds RetCode: 0 Status: OK PackageFile: blacksheepr_1.22.0.tgz PackageFileSize: 4.286 MiB