Package: blacksheepr Version: 1.20.0 Command: /Library/Frameworks/R.framework/Resources/bin/R CMD INSTALL blacksheepr StartedAt: 2025-01-30 17:38:32 -0500 (Thu, 30 Jan 2025) EndedAt: 2025-01-30 17:39:01 -0500 (Thu, 30 Jan 2025) EllapsedTime: 28.2 seconds RetCode: 0 Status: OK