Package: biscuiteer Version: 1.20.0 Command: /home/biocbuild/R/R/bin/R CMD INSTALL biscuiteer StartedAt: 2025-01-30 20:36:42 -0000 (Thu, 30 Jan 2025) EndedAt: 2025-01-30 20:38:51 -0000 (Thu, 30 Jan 2025) EllapsedTime: 128.2 seconds RetCode: 0 Status: OK