Package: biscuiteer Version: 1.20.0 Command: /home/biocbuild/R/R/bin/R CMD check --install=check:biscuiteer.install-out.txt --library=/home/biocbuild/R/R/site-library --no-vignettes --timings biscuiteer_1.20.0.tar.gz StartedAt: 2025-01-31 04:26:17 -0000 (Fri, 31 Jan 2025) EndedAt: 2025-01-31 04:37:34 -0000 (Fri, 31 Jan 2025) EllapsedTime: 677.6 seconds RetCode: 0 Status: WARNINGS CheckDir: biscuiteer.Rcheck Warnings: 1