Package: biscuiteer Version: 1.22.0 Command: chmod a+r biscuiteer -R && E:\biocbuild\bbs-3.21-bioc\R\bin\R.exe CMD build --keep-empty-dirs --no-resave-data biscuiteer StartedAt: 2025-08-14 17:43:12 -0400 (Thu, 14 Aug 2025) EndedAt: 2025-08-14 17:46:54 -0400 (Thu, 14 Aug 2025) EllapsedTime: 222.6 seconds RetCode: 0 Status: OK PackageFile: biscuiteer_1.22.0.tar.gz PackageFileSize: 4.762 MiB