Package: biscuiteer Version: 1.22.0 Maintainer: Jacob Morrison MaintainerEmail: jacob.morrison at vai.org git_url: https://git.bioconductor.org/packages/biscuiteer git_branch: RELEASE_3_21 git_last_commit: 44c7542 git_last_commit_date: 2025-04-15 11:51:53 -0400 (Tue, 15 Apr 2025)