Package: biovizBase Version: 1.54.0 Command: rm -rf biovizBase.buildbin-libdir && mkdir biovizBase.buildbin-libdir && F:\biocbuild\bbs-3.20-bioc\R\bin\R.exe CMD INSTALL --build --library=biovizBase.buildbin-libdir biovizBase_1.54.0.tar.gz StartedAt: 2025-01-03 07:52:16 -0500 (Fri, 03 Jan 2025) EndedAt: 2025-01-03 07:54:01 -0500 (Fri, 03 Jan 2025) EllapsedTime: 104.8 seconds RetCode: 0 Status: OK PackageFile: biovizBase_1.54.0.zip PackageFileSize: 2.557 MiB