Package: biotmle Version: 1.32.0 Maintainer: Nima Hejazi MaintainerEmail: nh at nimahejazi.org git_url: https://git.bioconductor.org/packages/biotmle git_branch: RELEASE_3_21 git_last_commit: c7fa5a4 git_last_commit_date: 2025-04-15 11:10:42 -0400 (Tue, 15 Apr 2025)