Package: biomvRCNS Version: 1.46.0 Command: chmod a+r biomvRCNS -R && F:\biocbuild\bbs-3.20-bioc\R\bin\R.exe CMD build --keep-empty-dirs --no-resave-data biomvRCNS StartedAt: 2025-01-02 17:42:48 -0500 (Thu, 02 Jan 2025) EndedAt: 2025-01-02 17:44:59 -0500 (Thu, 02 Jan 2025) EllapsedTime: 130.5 seconds RetCode: 0 Status: OK PackageFile: biomvRCNS_1.46.0.tar.gz PackageFileSize: 566.6 KiB