Package: biomvRCNS Version: 1.48.0 Command: E:\biocbuild\bbs-3.21-bioc\R\bin\R.exe CMD INSTALL biomvRCNS StartedAt: 2025-08-14 17:00:32 -0400 (Thu, 14 Aug 2025) EndedAt: 2025-08-14 17:01:40 -0400 (Thu, 14 Aug 2025) EllapsedTime: 68.2 seconds RetCode: 0 Status: OK