Package: biomvRCNS Version: 1.48.0 Command: /home/biocbuild/bbs-3.21-bioc/R/bin/R CMD build --keep-empty-dirs --no-resave-data biomvRCNS StartedAt: 2025-10-15 16:27:28 -0400 (Wed, 15 Oct 2025) EndedAt: 2025-10-15 16:29:14 -0400 (Wed, 15 Oct 2025) EllapsedTime: 106.1 seconds RetCode: 0 Status: OK PackageFile: biomvRCNS_1.48.0.tar.gz PackageFileSize: 806.9 KiB