Package: biomformat Version: 1.34.0 Command: /home/biocbuild/R/R/bin/R CMD check --install=check:biomformat.install-out.txt --library=/home/biocbuild/R/R/site-library --no-vignettes --timings biomformat_1.34.0.tar.gz StartedAt: 2025-01-31 04:24:06 -0000 (Fri, 31 Jan 2025) EndedAt: 2025-01-31 04:25:02 -0000 (Fri, 31 Jan 2025) EllapsedTime: 56.1 seconds RetCode: 0 Status: OK CheckDir: biomformat.Rcheck Warnings: 0