Package: biodbNci Version: 1.12.0 Command: /home/biocbuild/bbs-3.21-bioc/R/bin/R CMD build --keep-empty-dirs --no-resave-data biodbNci StartedAt: 2025-10-15 16:26:58 -0400 (Wed, 15 Oct 2025) EndedAt: 2025-10-15 16:27:31 -0400 (Wed, 15 Oct 2025) EllapsedTime: 33.0 seconds RetCode: 1 Status: ERROR PackageFile: None PackageFileSize: NA