Package: biodbNcbi Version: 1.14.0 Command: /Library/Frameworks/R.framework/Resources/bin/R CMD build --keep-empty-dirs --no-resave-data biodbNcbi StartedAt: 2025-11-02 16:19:19 -0500 (Sun, 02 Nov 2025) EndedAt: 2025-11-02 16:19:40 -0500 (Sun, 02 Nov 2025) EllapsedTime: 20.6 seconds RetCode: 1 Status: ERROR PackageFile: None PackageFileSize: NA