Package: biodbHmdb Version: 1.12.0 Command: /home/biocbuild/R/R/bin/R CMD check --install=check:biodbHmdb.install-out.txt --library=/home/biocbuild/R/R/site-library --no-vignettes --timings biodbHmdb_1.12.0.tar.gz StartedAt: 2025-01-31 04:13:46 -0000 (Fri, 31 Jan 2025) EndedAt: 2025-01-31 04:15:57 -0000 (Fri, 31 Jan 2025) EllapsedTime: 131.0 seconds RetCode: 0 Status: WARNINGS CheckDir: biodbHmdb.Rcheck Warnings: 2