Package: biodbHmdb Version: 1.12.0 Command: /home/biocbuild/R/R/bin/R CMD build --keep-empty-dirs --no-resave-data biodbHmdb StartedAt: 2025-01-30 22:05:02 -0000 (Thu, 30 Jan 2025) EndedAt: 2025-01-30 22:05:57 -0000 (Thu, 30 Jan 2025) EllapsedTime: 55.0 seconds RetCode: 0 Status: OK PackageFile: biodbHmdb_1.12.0.tar.gz PackageFileSize: 470.4 KiB