Package: biodbHmdb Version: 1.14.0 Command: /home/biocbuild/bbs-3.21-bioc/R/bin/R CMD build --keep-empty-dirs --no-resave-data biodbHmdb StartedAt: 2025-10-12 16:26:57 -0400 (Sun, 12 Oct 2025) EndedAt: 2025-10-12 16:27:38 -0400 (Sun, 12 Oct 2025) EllapsedTime: 41.0 seconds RetCode: 1 Status: ERROR PackageFile: None PackageFileSize: NA