Package: biodbHmdb Version: 1.12.0 Command: /Library/Frameworks/R.framework/Resources/bin/R CMD check --install=check:biodbHmdb.install-out.txt --library=/Library/Frameworks/R.framework/Resources/library --no-vignettes --timings biodbHmdb_1.12.0.tar.gz StartedAt: 2025-01-03 12:17:51 -0500 (Fri, 03 Jan 2025) EndedAt: 2025-01-03 12:18:43 -0500 (Fri, 03 Jan 2025) EllapsedTime: 51.5 seconds RetCode: 0 Status: WARNINGS CheckDir: biodbHmdb.Rcheck Warnings: 1