Package: biocthis Version: 1.18.0 Command: /Library/Frameworks/R.framework/Resources/bin/R CMD build --keep-empty-dirs --no-resave-data biocthis StartedAt: 2025-04-21 16:05:13 -0400 (Mon, 21 Apr 2025) EndedAt: 2025-04-21 16:05:36 -0400 (Mon, 21 Apr 2025) EllapsedTime: 23.0 seconds RetCode: 0 Status: OK PackageFile: biocthis_1.18.0.tar.gz PackageFileSize: 660.2 KiB