Package: biocthis Version: 1.18.0 Command: rm -rf biocthis.buildbin-libdir && mkdir biocthis.buildbin-libdir && /Users/biocbuild/BBS/utils/build-universal.sh biocthis_1.18.0.tar.gz /Library/Frameworks/R.framework/Resources/bin/R biocthis.buildbin-libdir StartedAt: 2025-04-22 00:35:22 -0400 (Tue, 22 Apr 2025) EndedAt: 2025-04-22 00:35:32 -0400 (Tue, 22 Apr 2025) EllapsedTime: 10.5 seconds RetCode: 0 Status: OK PackageFile: biocthis_1.18.0.tgz PackageFileSize: 705.7 KiB