Package: biocmake Version: 1.2.0 Command: /home/biocbuild/bbs-3.22-bioc/R/bin/R CMD INSTALL biocmake StartedAt: 2025-11-11 15:09:01 -0500 (Tue, 11 Nov 2025) EndedAt: 2025-11-11 15:09:20 -0500 (Tue, 11 Nov 2025) EllapsedTime: 18.7 seconds RetCode: 0 Status: OK