Package: biocmake Version: 1.2.0 Command: /Library/Frameworks/R.framework/Resources/bin/R CMD INSTALL biocmake StartedAt: 2025-11-10 15:02:50 -0500 (Mon, 10 Nov 2025) EndedAt: 2025-11-10 15:02:59 -0500 (Mon, 10 Nov 2025) EllapsedTime: 8.6 seconds RetCode: 0 Status: OK