Package: biocmake Version: 1.2.0 Command: /Library/Frameworks/R.framework/Resources/bin/R CMD build --keep-empty-dirs --no-resave-data biocmake StartedAt: 2025-11-10 15:45:45 -0500 (Mon, 10 Nov 2025) EndedAt: 2025-11-10 15:45:48 -0500 (Mon, 10 Nov 2025) EllapsedTime: 3.0 seconds RetCode: 0 Status: OK PackageFile: biocmake_1.2.0.tar.gz PackageFileSize: 223.2 KiB