Package: biocmake Version: 1.2.0 Command: rm -rf biocmake.buildbin-libdir && mkdir biocmake.buildbin-libdir && /Users/biocbuild/BBS/utils/build-universal.sh biocmake_1.2.0.tar.gz /Library/Frameworks/R.framework/Resources/bin/R biocmake.buildbin-libdir StartedAt: 2025-11-10 23:12:42 -0500 (Mon, 10 Nov 2025) EndedAt: 2025-11-10 23:12:44 -0500 (Mon, 10 Nov 2025) EllapsedTime: 2.0 seconds RetCode: 0 Status: OK PackageFile: biocmake_1.2.0.tgz PackageFileSize: 243.2 KiB