Package: biocViews Version: 1.76.0 Command: chmod a+r biocViews -R && E:\biocbuild\bbs-3.21-bioc\R\bin\R.exe CMD build --keep-empty-dirs --no-resave-data biocViews StartedAt: 2025-08-14 17:40:20 -0400 (Thu, 14 Aug 2025) EndedAt: 2025-08-14 17:41:14 -0400 (Thu, 14 Aug 2025) EllapsedTime: 54.2 seconds RetCode: 0 Status: OK PackageFile: biocViews_1.76.0.tar.gz PackageFileSize: 507.1 KiB