Package: biocViews Version: 1.76.0 Command: rm -rf biocViews.buildbin-libdir && mkdir biocViews.buildbin-libdir && E:\biocbuild\bbs-3.21-bioc\R\bin\R.exe CMD INSTALL --build --library=biocViews.buildbin-libdir biocViews_1.76.0.tar.gz StartedAt: 2025-08-15 08:51:46 -0400 (Fri, 15 Aug 2025) EndedAt: 2025-08-15 08:52:35 -0400 (Fri, 15 Aug 2025) EllapsedTime: 49.2 seconds RetCode: 0 Status: OK PackageFile: biocViews_1.76.0.zip PackageFileSize: 900.7 KiB