Package: biocGraph Version: 1.68.0 Command: /home/biocbuild/R/R/bin/R CMD build --keep-empty-dirs --no-resave-data biocGraph StartedAt: 2025-01-30 21:58:28 -0000 (Thu, 30 Jan 2025) EndedAt: 2025-01-30 21:58:57 -0000 (Thu, 30 Jan 2025) EllapsedTime: 29.0 seconds RetCode: 0 Status: OK PackageFile: biocGraph_1.68.0.tar.gz PackageFileSize: 717 KiB