Package: biobtreeR Version: 1.18.0 Command: chmod a+r biobtreeR -R && F:\biocbuild\bbs-3.20-bioc\R\bin\R.exe CMD build --keep-empty-dirs --no-resave-data biobtreeR StartedAt: 2025-01-30 17:31:47 -0500 (Thu, 30 Jan 2025) EndedAt: 2025-01-30 17:32:57 -0500 (Thu, 30 Jan 2025) EllapsedTime: 69.9 seconds RetCode: 0 Status: OK PackageFile: biobtreeR_1.18.0.tar.gz PackageFileSize: 938.4 KiB