Package: biobtreeR Version: 1.20.0 Command: rm -rf biobtreeR.buildbin-libdir && mkdir biobtreeR.buildbin-libdir && /Users/biocbuild/BBS/utils/build-universal.sh biobtreeR_1.20.0.tar.gz /Library/Frameworks/R.framework/Resources/bin/R biobtreeR.buildbin-libdir StartedAt: 2025-04-22 00:35:01 -0400 (Tue, 22 Apr 2025) EndedAt: 2025-04-22 00:35:06 -0400 (Tue, 22 Apr 2025) EllapsedTime: 5.8 seconds RetCode: 0 Status: OK PackageFile: biobtreeR_1.20.0.tgz PackageFileSize: 978.9 KiB