Package: biobroom Version: 1.40.0 Command: /home/biocbuild/bbs-3.21-bioc/R/bin/R CMD INSTALL biobroom StartedAt: 2025-10-01 15:15:27 -0400 (Wed, 01 Oct 2025) EndedAt: 2025-10-01 15:15:33 -0400 (Wed, 01 Oct 2025) EllapsedTime: 5.6 seconds RetCode: 0 Status: OK