Package: bioassayR Version: 1.44.0 Command: /home/biocbuild/R/R/bin/R CMD build --keep-empty-dirs --no-resave-data bioassayR StartedAt: 2025-01-30 21:56:33 -0000 (Thu, 30 Jan 2025) EndedAt: 2025-01-30 21:57:24 -0000 (Thu, 30 Jan 2025) EllapsedTime: 51.0 seconds RetCode: 0 Status: OK PackageFile: bioassayR_1.44.0.tar.gz PackageFileSize: 1.425 MiB