Package: bioCancer Version: 1.36.0 Command: chmod a+r bioCancer -R && E:\biocbuild\bbs-3.21-bioc\R\bin\R.exe CMD build --keep-empty-dirs --no-resave-data bioCancer StartedAt: 2025-08-14 17:37:29 -0400 (Thu, 14 Aug 2025) EndedAt: 2025-08-14 17:39:23 -0400 (Thu, 14 Aug 2025) EllapsedTime: 113.6 seconds RetCode: 0 Status: OK PackageFile: bioCancer_1.36.0.tar.gz PackageFileSize: 9.457 MiB