Package: bgx Version: 1.74.0 Command: /Library/Frameworks/R.framework/Resources/bin/R CMD INSTALL bgx StartedAt: 2025-05-22 15:28:50 -0400 (Thu, 22 May 2025) EndedAt: 2025-05-22 15:29:56 -0400 (Thu, 22 May 2025) EllapsedTime: 66.5 seconds RetCode: 0 Status: OK