Package: bettr Version: 1.4.0 Command: /Library/Frameworks/R.framework/Resources/bin/R CMD INSTALL bettr StartedAt: 2025-04-21 15:11:08 -0400 (Mon, 21 Apr 2025) EndedAt: 2025-04-21 15:11:20 -0400 (Mon, 21 Apr 2025) EllapsedTime: 11.5 seconds RetCode: 0 Status: OK