Package: bettr Version: 1.4.0 Command: /Library/Frameworks/R.framework/Resources/bin/R CMD check --install=check:bettr.install-out.txt --library=/Library/Frameworks/R.framework/Resources/library --no-vignettes --timings bettr_1.4.0.tar.gz StartedAt: 2025-04-21 18:17:52 -0400 (Mon, 21 Apr 2025) EndedAt: 2025-04-21 18:19:16 -0400 (Mon, 21 Apr 2025) EllapsedTime: 84.1 seconds RetCode: 0 Status: OK CheckDir: bettr.Rcheck Warnings: 0