Package: bettr Version: 1.4.0 Command: rm -rf bettr.buildbin-libdir && mkdir bettr.buildbin-libdir && /Users/biocbuild/BBS/utils/build-universal.sh bettr_1.4.0.tar.gz /Library/Frameworks/R.framework/Resources/bin/R bettr.buildbin-libdir StartedAt: 2025-04-21 22:27:17 -0400 (Mon, 21 Apr 2025) EndedAt: 2025-04-21 22:27:30 -0400 (Mon, 21 Apr 2025) EllapsedTime: 13.3 seconds RetCode: 0 Status: OK PackageFile: bettr_1.4.0.tgz PackageFileSize: 1.73 MiB