Package: betaHMM Version: 1.2.1 Command: /home/biocbuild/R/R/bin/R CMD INSTALL betaHMM StartedAt: 2025-01-30 20:16:52 -0000 (Thu, 30 Jan 2025) EndedAt: 2025-01-30 20:17:23 -0000 (Thu, 30 Jan 2025) EllapsedTime: 31.5 seconds RetCode: 0 Status: OK