Package: betaHMM Version: 1.2.1 Command: /home/biocbuild/R/R/bin/R CMD check --install=check:betaHMM.install-out.txt --library=/home/biocbuild/R/R/site-library --no-vignettes --timings betaHMM_1.2.1.tar.gz StartedAt: 2025-01-31 04:05:35 -0000 (Fri, 31 Jan 2025) EndedAt: 2025-01-31 04:24:02 -0000 (Fri, 31 Jan 2025) EllapsedTime: 1107.2 seconds RetCode: 1 Status: ERROR CheckDir: betaHMM.Rcheck Warnings: NA