Package: betaHMM Version: 1.2.1 Command: /home/biocbuild/bbs-3.20-bioc/R/bin/R CMD INSTALL betaHMM StartedAt: 2025-01-30 15:12:35 -0500 (Thu, 30 Jan 2025) EndedAt: 2025-01-30 15:12:59 -0500 (Thu, 30 Jan 2025) EllapsedTime: 23.5 seconds RetCode: 0 Status: OK