Package: betaHMM Version: 1.2.1 Command: /Library/Frameworks/R.framework/Resources/bin/R CMD check --install=check:betaHMM.install-out.txt --library=/Library/Frameworks/R.framework/Resources/library --no-vignettes --timings betaHMM_1.2.1.tar.gz StartedAt: 2025-01-31 00:36:30 -0500 (Fri, 31 Jan 2025) EndedAt: 2025-01-31 00:57:27 -0500 (Fri, 31 Jan 2025) EllapsedTime: 1257.5 seconds RetCode: 0 Status: OK CheckDir: betaHMM.Rcheck Warnings: 0