Package: betaHMM Version: 1.2.1 Command: /Library/Frameworks/R.framework/Resources/bin/R CMD build --keep-empty-dirs --no-resave-data betaHMM StartedAt: 2025-01-30 17:20:08 -0500 (Thu, 30 Jan 2025) EndedAt: 2025-01-30 17:33:29 -0500 (Thu, 30 Jan 2025) EllapsedTime: 801.5 seconds RetCode: 0 Status: OK PackageFile: betaHMM_1.2.1.tar.gz PackageFileSize: 3.836 MiB