Package: betaHMM Version: 1.2.1 Command: rm -rf betaHMM.buildbin-libdir && mkdir betaHMM.buildbin-libdir && /Users/biocbuild/BBS/utils/build-universal.sh betaHMM_1.2.1.tar.gz /Library/Frameworks/R.framework/Resources/bin/R betaHMM.buildbin-libdir StartedAt: 2025-01-31 12:23:07 -0500 (Fri, 31 Jan 2025) EndedAt: 2025-01-31 12:24:09 -0500 (Fri, 31 Jan 2025) EllapsedTime: 62.1 seconds RetCode: 0 Status: OK PackageFile: betaHMM_1.2.1.tgz PackageFileSize: 3.92 MiB