Package: betaHMM Version: 1.2.1 Command: /Library/Frameworks/R.framework/Resources/bin/R CMD INSTALL betaHMM StartedAt: 2025-02-03 15:36:55 -0500 (Mon, 03 Feb 2025) EndedAt: 2025-02-03 15:37:09 -0500 (Mon, 03 Feb 2025) EllapsedTime: 14.2 seconds RetCode: 0 Status: OK