Package: betaHMM Version: 1.2.1 Command: /Library/Frameworks/R.framework/Resources/bin/R CMD build --keep-empty-dirs --no-resave-data betaHMM StartedAt: 2025-02-03 19:18:11 -0500 (Mon, 03 Feb 2025) EndedAt: 2025-02-03 19:23:49 -0500 (Mon, 03 Feb 2025) EllapsedTime: 337.5 seconds RetCode: 0 Status: OK PackageFile: betaHMM_1.2.1.tar.gz PackageFileSize: 3.837 MiB