Package: benchdamic Version: 1.12.2 Command: /home/biocbuild/R/R/bin/R CMD build --keep-empty-dirs --no-resave-data benchdamic StartedAt: 2025-01-30 21:50:16 -0000 (Thu, 30 Jan 2025) EndedAt: 2025-01-30 22:17:26 -0000 (Thu, 30 Jan 2025) EllapsedTime: 1630.4 seconds RetCode: 0 Status: OK PackageFile: benchdamic_1.12.2.tar.gz PackageFileSize: 2.252 MiB