Package: bedbaser Version: 1.2.0 Command: /home/biocbuild/bbs-3.22-bioc/R/bin/R CMD INSTALL bedbaser StartedAt: 2025-11-17 17:44:10 -0500 (Mon, 17 Nov 2025) EndedAt: 2025-11-17 17:44:14 -0500 (Mon, 17 Nov 2025) EllapsedTime: 4.3 seconds RetCode: 0 Status: OK